BEGIN:VCALENDAR
VERSION:2.0
PRODID:-//pretix//pretix.eu//
BEGIN:VTIMEZONE
TZID:Europe/Berlin
BEGIN:STANDARD
DTSTART:20001029T040000
RRULE:FREQ=YEARLY;BYDAY=-1SU;BYMONTH=10
TZNAME:CET
TZOFFSETFROM:+0200
TZOFFSETTO:+0100
END:STANDARD
BEGIN:DAYLIGHT
DTSTART:20000326T030000
RRULE:FREQ=YEARLY;BYDAY=-1SU;BYMONTH=3
TZNAME:CEST
TZOFFSETFROM:+0100
TZOFFSETTO:+0200
END:DAYLIGHT
END:VTIMEZONE
BEGIN:VEVENT
UID:pretix-hacker-school-inspirer-a0AOj00000F5BILMA3a01Oj00000qhWTPIA2-0@in
 spirer.hacker-school.de
DTSTART;TZID=Europe/Berlin:20260511T083000
DTEND;TZID=Europe/Berlin:20260511T123000
DESCRIPTION:Tickets: https://inspirer.hacker-school.de/a0AOj00000F5BILMA3a0
 1Oj00000qhWTPIA2/\nVeranstalter: Hacker School gGmbH (Inspirer)
DTSTAMP:20260419T090113Z
LOCATION:@online\, bei Dir zuhause\, 20097\, Hamburg\, Germany
SUMMARY:YS-BW-38MCh-a Kl. 7 MakeCode @Zellerschule Nagold
END:VEVENT
END:VCALENDAR
